BEGIN:VCALENDAR
VERSION:2.0
PRODID:-//Segelgemeinschaft der Marineflieger - ECPv6.15.20//NONSGML v1.0//EN
CALSCALE:GREGORIAN
METHOD:PUBLISH
X-WR-CALNAME:Segelgemeinschaft der Marineflieger
X-ORIGINAL-URL:https://sgmkiel.de
X-WR-CALDESC:Veranstaltungen für Segelgemeinschaft der Marineflieger
REFRESH-INTERVAL;VALUE=DURATION:PT1H
X-Robots-Tag:noindex
X-PUBLISHED-TTL:PT1H
BEGIN:VTIMEZONE
TZID:Europe/Berlin
BEGIN:DAYLIGHT
TZOFFSETFROM:+0100
TZOFFSETTO:+0200
TZNAME:CEST
DTSTART:20250330T010000
END:DAYLIGHT
BEGIN:STANDARD
TZOFFSETFROM:+0200
TZOFFSETTO:+0100
TZNAME:CET
DTSTART:20251026T010000
END:STANDARD
BEGIN:DAYLIGHT
TZOFFSETFROM:+0100
TZOFFSETTO:+0200
TZNAME:CEST
DTSTART:20260329T010000
END:DAYLIGHT
BEGIN:STANDARD
TZOFFSETFROM:+0200
TZOFFSETTO:+0100
TZNAME:CET
DTSTART:20261025T010000
END:STANDARD
BEGIN:DAYLIGHT
TZOFFSETFROM:+0100
TZOFFSETTO:+0200
TZNAME:CEST
DTSTART:20270328T010000
END:DAYLIGHT
BEGIN:STANDARD
TZOFFSETFROM:+0200
TZOFFSETTO:+0100
TZNAME:CET
DTSTART:20271031T010000
END:STANDARD
END:VTIMEZONE
BEGIN:VEVENT
DTSTART;TZID=Europe/Berlin:20260213T190000
DTEND;TZID=Europe/Berlin:20260213T190000
DTSTAMP:20260420T174529
CREATED:20220104T082639Z
LAST-MODIFIED:20251203T132317Z
UID:13526-1771009200-1771009200@sgmkiel.de
SUMMARY:Seglertreff Hafenhütte
DESCRIPTION:Lasst uns wieder über ded und dad philosophieren. Denn es ist wieder Zeit für Geschichten die vielleicht zum Seemanns- oder Seefrauengarn geeignet sind.
URL:https://sgmkiel.de/event/seglertreff-16/
END:VEVENT
BEGIN:VEVENT
DTSTART;TZID=Europe/Berlin:20260214T110000
DTEND;TZID=Europe/Berlin:20260214T150000
DTSTAMP:20260420T174529
CREATED:20221116T103636Z
LAST-MODIFIED:20260212T113527Z
UID:14682-1771066800-1771081200@sgmkiel.de
SUMMARY:Gemeinschaftsarbeit Grünschnitt !!Abgesagt!!
DESCRIPTION:Aufgrund der Wetterlage haben wir unsere Gemeischaftsarbeit\, via Email vom 12. Februar\, abgesagt. Ein neuer Termin ist bereits bekannt gegeben worden.
URL:https://sgmkiel.de/event/gemeinschaftsarbeit-gruenschnitt/
END:VEVENT
BEGIN:VEVENT
DTSTART;TZID=Europe/Berlin:20260221T110000
DTEND;TZID=Europe/Berlin:20260221T150000
DTSTAMP:20260420T174529
CREATED:20260212T113135Z
LAST-MODIFIED:20260219T141336Z
UID:20651-1771671600-1771686000@sgmkiel.de
SUMMARY:Zwoter Versuch zum Grünschnitt !!Abgesagt!!
DESCRIPTION:Auch wenn zum Wochenende Tauwetter einsetzen soll\, so können wir dennoch nicht den schneebedeckten Boden und den Hang zum Wasser sicher beurteilen. Um einer mögliche Unfallgefährdung vorzubeugen sagen wir dieser Termin zum Grünschnitt vorsichtshalber ab und verschieben diesen um eine weitere Woche.
URL:https://sgmkiel.de/event/zwoter-versuch-zum-gruenschnitt/
END:VEVENT
BEGIN:VEVENT
DTSTART;TZID=Europe/Berlin:20260228T110000
DTEND;TZID=Europe/Berlin:20260228T150000
DTSTAMP:20260420T174529
CREATED:20260219T135917Z
LAST-MODIFIED:20260219T135917Z
UID:20806-1772276400-1772290800@sgmkiel.de
SUMMARY:Dritter und letzter Versuch zum Grünschnitt
DESCRIPTION:Wir wollen es ein drittes Mal versuchen. Denn auch wenn man es derzeit nicht glauben mag. Aber das Frühjahr naht und hat zwingende Aktionen auf dem Gelände im Gepäck. Denn die Vegetation hat uns im letzten Jahr gezeigt wie es geht flächendecken zu wachsen. Damit diese Fläche nicht größer wird\, oder unsere kleiner\, treffen wir uns am Hafen zur Buschwerkpfleg
URL:https://sgmkiel.de/event/dritter-und-letzter-versuch-zum-gruenschnitt/
END:VEVENT
END:VCALENDAR