BEGIN:VCALENDAR
VERSION:2.0
PRODID:-//Segelgemeinschaft der Marineflieger - ECPv6.15.20//NONSGML v1.0//EN
CALSCALE:GREGORIAN
METHOD:PUBLISH
X-WR-CALNAME:Segelgemeinschaft der Marineflieger
X-ORIGINAL-URL:https://sgmkiel.de
X-WR-CALDESC:Veranstaltungen für Segelgemeinschaft der Marineflieger
REFRESH-INTERVAL;VALUE=DURATION:PT1H
X-Robots-Tag:noindex
X-PUBLISHED-TTL:PT1H
BEGIN:VTIMEZONE
TZID:Europe/Berlin
BEGIN:DAYLIGHT
TZOFFSETFROM:+0100
TZOFFSETTO:+0200
TZNAME:CEST
DTSTART:20250330T010000
END:DAYLIGHT
BEGIN:STANDARD
TZOFFSETFROM:+0200
TZOFFSETTO:+0100
TZNAME:CET
DTSTART:20251026T010000
END:STANDARD
BEGIN:DAYLIGHT
TZOFFSETFROM:+0100
TZOFFSETTO:+0200
TZNAME:CEST
DTSTART:20260329T010000
END:DAYLIGHT
BEGIN:STANDARD
TZOFFSETFROM:+0200
TZOFFSETTO:+0100
TZNAME:CET
DTSTART:20261025T010000
END:STANDARD
BEGIN:DAYLIGHT
TZOFFSETFROM:+0100
TZOFFSETTO:+0200
TZNAME:CEST
DTSTART:20270328T010000
END:DAYLIGHT
BEGIN:STANDARD
TZOFFSETFROM:+0200
TZOFFSETTO:+0100
TZNAME:CET
DTSTART:20271031T010000
END:STANDARD
END:VTIMEZONE
BEGIN:VEVENT
DTSTART;TZID=Europe/Berlin:20260310T180000
DTEND;TZID=Europe/Berlin:20260310T180000
DTSTAMP:20260420T155930
CREATED:20221116T103222Z
LAST-MODIFIED:20260304T134046Z
UID:14680-1773165600-1773165600@sgmkiel.de
SUMMARY:Mitgliederversammlung 2026
DESCRIPTION:Die Einladung zur Mitgliederversammlung ist mit der E-Mail vom 22. Februar  an alle versandt worden. Jetzt müsst Ihr nur noch erscheinen um Euch die Rechenschaft Eures Vorstands anzuhören. Ebenso wird der Vorstand in seiner Zusammensetzung neu gewählt. Ob der bestehende Vorstand nochmals zur Verfügung steht erfahrt ihr nur\, wenn ihr zu diesem Termin erscheint. \nVergesst nicht Euren Perso. Sonst gibt es kein Reinkommen.
URL:https://sgmkiel.de/event/mitgliederversammlung-2023/
END:VEVENT
BEGIN:VEVENT
DTSTART;TZID=Europe/Berlin:20260313T190000
DTEND;TZID=Europe/Berlin:20260313T190000
DTSTAMP:20260420T155930
CREATED:20220104T082109Z
LAST-MODIFIED:20260304T135020Z
UID:13518-1773428400-1773428400@sgmkiel.de
SUMMARY:Seglertreff !!!Achtung an einem anderen Ort!!!
DESCRIPTION:Reparaturstand! Aufgetretene Problem! Wie hat man was gelöst und was wird nun doch auf das nächste Jahr verschoben … und wo stehen die Verrückten die um  diese Jahreszeit schon ins Wasser gehen!?\nDarüber lasst uns gemeinsam philosophieren. Nur diesesmal an einem anderen Ort. \nDoch bevor ihr ins philosophieren kommt wollen wir gemeinsam mit WSG NOK\, in deren Vereinsräumlichkeiten\, eine Film Präsentation „Time to act“ anschauen und hören was Michael Wahlter zu berichten hat.
URL:https://sgmkiel.de/event/seglertreff-7/
END:VEVENT
END:VCALENDAR